BEGIN:VCALENDAR
VERSION:2.0
PRODID:-//Visit Kustavi - ECPv6.10.3//NONSGML v1.0//EN
CALSCALE:GREGORIAN
METHOD:PUBLISH
X-ORIGINAL-URL:https://visitkustavi.fi
X-WR-CALDESC:Events for Visit Kustavi
REFRESH-INTERVAL;VALUE=DURATION:PT1H
X-Robots-Tag:noindex
X-PUBLISHED-TTL:PT1H
BEGIN:VTIMEZONE
TZID:Europe/Helsinki
BEGIN:DAYLIGHT
TZOFFSETFROM:+0200
TZOFFSETTO:+0300
TZNAME:EEST
DTSTART:20230326T010000
END:DAYLIGHT
BEGIN:STANDARD
TZOFFSETFROM:+0300
TZOFFSETTO:+0200
TZNAME:EET
DTSTART:20231029T010000
END:STANDARD
END:VTIMEZONE
BEGIN:VEVENT
DTSTART;VALUE=DATE:20230605
DTEND;VALUE=DATE:20230828
DTSTAMP:20260425T060200
CREATED:20230516T124035Z
LAST-MODIFIED:20230516T124035Z
UID:63856-1685923200-1693180799@visitkustavi.fi
SUMMARY:Spaunan Kallioilla - Ympäristötaiteen tapahtuma Kustavissa
DESCRIPTION:Spaunan Kallioilla on ympäristötaiteen ja paikkasidonnaisen taiteen tapahtuma keskellä kauneinta saaristoa\, Vuosnaisissa Kustavissa Vartsalan saaressa. Spaunan Kallioilla -tapahtuma levittäytyy reilun kilometrin pituiselle Vuosnaisten luontopolun kalliolle ja metsiin. \nSpaunan Kallioilla on auki koko kesän 24/7. Yleisöllä on mahdollisuus perehtyä ainutlaatuiseen saaristoluontoon samalla tutustuen ympäristön ehdoilla tehtyyn nykytaiteeseen. Jokainen teos käsittelee omalla tavallaan luonnon monimuotoisuutta\, ympäröivää ympäristöä ja tämänhetkistä ilmastokriisiä. \nTAITEILIJAT\nSonja Elenius\nJohanna Sinkkonen\nJohn Sundberg & Andrei Bakharev\nTrivial Zero\nSuvi Nurmi\nVeera Arstio\nHolz Kollektiv\nAntti Kulmala\, Joni Pohjankettu & Suvi Ylönen \nSpaunan Kallioilla -tapahtuman mahdollistaa TAIKE\, A.T. Mattilan säätiö\, Kustavin kunta\, Spauna ja 24rent. Tapahtuman toteuttaa Fimbul Taiteilijatalo ry. Tuottajana ja kuraattorina toimii turkulainen kuvataiteilija ja tuottaja Johanna Sinkkonen. \nHUOMIOITAVAA\nVuosnaisten luontopolku lähtee Vartsalan lauttasataman vierestä\, ravintola Spaunan pihalta. Luontopolku kulkee pääasiassa rantakallioilla ja jonkun matkaa myös metsämaastossa. Huomioitavaa on\, että reitti ei sovellu liikuntaesteisille eikä lastenrattaille. Sateella rantakalliot ovat erittäin liukkaita\, jolloin liikkuminen reitillä vaatii erityistä tarkkaavaisuutta. \nYHTEYSTIEDOT\nSpaunan Kallioilla\nVuosnaisten luontopolku\nVuosnaistentie 617\n23360 Kustavi\nhttps://www.spaunankallioilla.fi/\nhttps://www.instagram.com/spaunankallioilla/\nhttps://www.facebook.com/SpaunanKallioilla \nLISÄTIETOJA\nJohanna Sinkkonen\nTuottaja / Fimbul Taiteilijatalo ry\ninfo@spaunankallioilla.fi
URL:https://visitkustavi.fi/tapahtuma/spaunan-kallioilla-ymparistotaiteen-tapahtuma-kustavissa-2/
LOCATION:Vuosnaisten luontopolku\, Vuosnaistentie 617\, 23360\, Suomi
CATEGORIES:Etusivun tapahtumat,Tapahtumat
ATTACH;FMTTYPE=image/jpeg:https://visitkustavi.fi/wp-content/uploads/2023/05/SpaunanKallioilla2023-1920x1306-1.jpg
ORGANIZER;CN="Fimbul Taiteilijatalo ry":MAILTO:johanna.sinkkonen@gmail.com
END:VEVENT
BEGIN:VEVENT
DTSTART;TZID=Europe/Helsinki:20230617T130000
DTEND;TZID=Europe/Helsinki:20230617T160000
DTSTAMP:20260425T060200
CREATED:20230516T124148Z
LAST-MODIFIED:20230516T124148Z
UID:63863-1687006800-1687017600@visitkustavi.fi
SUMMARY:Spaunan Kallioilla AVAJAISET lauantaina 17.6.2023 klo 13-16
DESCRIPTION:Lämpimästi tervetuloa Spaunan Kallioilla -tapahtuman avajaisiin lauantaina 17.6.2023 klo 13! Paikan päällä tavattavissa on tapahtuman taiteilijoita\, jotka kertovat teoksistaan ja niiden synnystä. Luvassa on myös Spaunan keittiön maineikasta purtavaa! \nSpaunan Kallioilla on ympäristötaiteen ja paikkasidonnaisen taiteen tapahtuma keskellä kauneinta saaristoa\, Kustavissa Vartsalan saaressa 5.6.-27.8.2023. Spaunan Kallioilla -tapahtuma levittäytyy reilun kilometrin pituiselle Vuosnaisten luontopolun kalliolle ja metsiin. \nSpaunan Kallioilla on auki koko kesän 24/7\, jolloin yleisöllä on mahdollisuus perehtyä ainutlaatuiseen saaristoluontoon samalla tutustuen ympäristön ehdoilla tehtyyn nykytaiteeseen. Jokainen teos käsittelee omalla tavallaan luonnon monimuotoisuutta\, ympäröivää ympäristöä ja tämänhetkistä ilmastokriisiä. \nTAITEILIJAT\nSonja Elenius\nJohanna Sinkkonen\nJohn Sundberg & Andrei Bakharev\nTrivial Zero\nSuvi Nurmi\nVeera Arstio\nHolz Kollektiv\nAntti Kulmala\, Joni Pohjankettu & Suvi Ylönen \nYHTEISKULJETUS AVAJAISIIN\nSpaunan Kallioilla järjestää yhteiskuljetuksen avajaisiin ja sieltä pois. Lähtö tapahtuu Turun Tuomiokirkon edestä klo 11 ja paluu samalle paikalle noin klo 18. Sitovat ilmoittautumiset yhteiskuljetukseen: info@spaunankallioilla.fi\, laita viestiin oma nimesi ja puhelinnumerosi sekä osallistujien määrä. Paikkoja rajoitetusti! \nOHJELMA\nKlo 11 Yhteiskuljetuksen lähtö Turun Tuomiokirkon edestä\nKlo 13 Puheita ja kiitoksia\nKlo 14 Teoskierros jonka jälkeen purtavaa Spaunassa ja omakustanteinen baari\nKlo 16 Yhteiskuljetuksen lähtö Vartsalasta takaisin Turun Tuomiokirkolle \nSpaunan Kallioilla -tapahtuman mahdollistaa TAIKE\, A.T. Mattilan säätiö\, Kustavin kunta\, Spauna ja 24rent. Tapahtuman toteuttaa Fimbul Taiteilijatalo ry. Tuottajana ja kuraattorina toimii turkulainen kuvataiteilija ja tuottaja Johanna Sinkkonen. \nHUOMIOITAVAA\nVuosnaisten luontopolku lähtee Vartsalan lauttasataman vierestä\, ravintola Spaunan pihalta. Luontopolku kulkee pääasiassa rantakallioilla ja jonkun matkaa myös metsämaastossa. Huomioitavaa on\, että reitti ei sovellu liikuntaesteisille eikä lastenrattaille. Sateella rantakalliot ovat erittäin liukkaita\, jolloin liikkuminen reitillä vaatii erityistä tarkkaavaisuutta. \nYHTEYSTIEDOT\nSpaunan Kallioilla\nVuosnaisten luontopolku\nVuosnaistentie 617\n23360 Kustavi\nhttps://www.spaunankallioilla.fi/\nhttps://www.instagram.com/spaunankallioilla/\nhttps://www.facebook.com/SpaunanKallioilla \nLISÄTIETOJA\nJohanna Sinkkonen\nTuottaja / Fimbul Taiteilijatalo ry\ninfo@spaunankallioilla.fi
URL:https://visitkustavi.fi/tapahtuma/spaunan-kallioilla-avajaiset-lauantaina-17-6-2023-klo-13-16/
LOCATION:Vuosnaisten luontopolku\, Vuosnaistentie 617\, 23360\, Suomi
CATEGORIES:Etusivun tapahtumat,Tapahtumat
ATTACH;FMTTYPE=image/jpeg:https://visitkustavi.fi/wp-content/uploads/2023/05/SpaunanKallioilla2023_KUTSU-AVAJAISIIN-1920x1306-1.jpg
ORGANIZER;CN="Fimbul Taiteilijatalo ry":MAILTO:johanna.sinkkonen@gmail.com
END:VEVENT
BEGIN:VEVENT
DTSTART;TZID=Europe/Helsinki:20230628T100000
DTEND;TZID=Europe/Helsinki:20230826T130000
DTSTAMP:20260425T060200
CREATED:20230823T091912Z
LAST-MODIFIED:20230823T091912Z
UID:63919-1687946400-1693054800@visitkustavi.fi
SUMMARY:SUVITORILLA TAPAHTUU
DESCRIPTION:Kustavin Suvitorilla juhannuksen jälkeen myyjiä paikalla keskiviikosta lauantaihin klo 10-13. (säävaraus)\nElokuussa perjantaisin ja lauantaisin klo 10-13. (säävaraus) \nMyynnissä:\n> kahvia ja pullaa\, virvokkeita\, sinappia\, paholaisenhilloa\n> leivonnaisia\, munkkeja\, sämpylöitä\n> vihanneksia\, juureksia\, marjoja\, kananmunia\n> kesäkukkia\n> kalatuotteita\n> lampaanvillaisia villapaitoja\, pipoja ym.\n> hellehattuja\n> kestokangaskasseja\n> keittiöliinoja\n> kynttilöitä\, lyhtyjä (Finnlite)\n> kirppispöydiltä kodin tavaraa\nMyyjiä paikalla satunnaisesti muulloinkin\, mm. kenkiä\, mattoja\, Turrin oliiviöljyä ym.
URL:https://visitkustavi.fi/tapahtuma/suvitorilla-tapahtuu-2/
LOCATION:Suvitori\, Kivimaantie 9\, 23360
CATEGORIES:Etusivun tapahtumat,Tapahtumat
ATTACH;FMTTYPE=image/jpeg:https://visitkustavi.fi/wp-content/uploads/2023/08/Suvitori-kukkia-poydalla-1-scaled-1.jpg
END:VEVENT
END:VCALENDAR