BEGIN:VCALENDAR
VERSION:2.0
PRODID:-//Visit Kustavi - ECPv6.10.3//NONSGML v1.0//EN
CALSCALE:GREGORIAN
METHOD:PUBLISH
X-WR-CALNAME:Visit Kustavi
X-ORIGINAL-URL:https://visitkustavi.fi
X-WR-CALDESC:Events for Visit Kustavi
REFRESH-INTERVAL;VALUE=DURATION:PT1H
X-Robots-Tag:noindex
X-PUBLISHED-TTL:PT1H
BEGIN:VTIMEZONE
TZID:Europe/Helsinki
BEGIN:DAYLIGHT
TZOFFSETFROM:+0200
TZOFFSETTO:+0300
TZNAME:EEST
DTSTART:20230326T010000
END:DAYLIGHT
BEGIN:STANDARD
TZOFFSETFROM:+0300
TZOFFSETTO:+0200
TZNAME:EET
DTSTART:20231029T010000
END:STANDARD
END:VTIMEZONE
BEGIN:VEVENT
DTSTART;TZID=Europe/Helsinki:20230524T190000
DTEND;TZID=Europe/Helsinki:20230524T203000
DTSTAMP:20260425T043744
CREATED:20230516T123815Z
LAST-MODIFIED:20230516T123815Z
UID:63851-1684954800-1684960200@visitkustavi.fi
SUMMARY:Keväinen tuulahdus- perinteinen muotinäytös
DESCRIPTION:Perinteinen muotinäytös\, jossa Putiikki Sik-Sak ja Kenkäkauppa Alina esittelevät kevään ja kesän muotia naisille. \nMuotinäytöksen järjestää Kustavin Martat ry. \nMyynnissä kahvia ennen näytöksen alkua. \nTuo mukaasi pieni paketti arvontaan. \nTervetuloa!
URL:https://visitkustavi.fi/tapahtuma/kevainen-tuulahdus-perinteinen-muotinaytos/
LOCATION:Kustavi-sali\, Kivimaantie 20\, Kustavi\, 23360\, Suomi
CATEGORIES:Etusivun tapahtumat,Tapahtumat
ATTACH;FMTTYPE=image/png:https://visitkustavi.fi/wp-content/uploads/2023/05/Muotinaytos-24052023.png
END:VEVENT
END:VCALENDAR