BEGIN:VCALENDAR
VERSION:2.0
PRODID:-//Visit Kustavi - ECPv6.10.3//NONSGML v1.0//EN
CALSCALE:GREGORIAN
METHOD:PUBLISH
X-WR-CALNAME:Visit Kustavi
X-ORIGINAL-URL:https://visitkustavi.fi
X-WR-CALDESC:Events for Visit Kustavi
REFRESH-INTERVAL;VALUE=DURATION:PT1H
X-Robots-Tag:noindex
X-PUBLISHED-TTL:PT1H
BEGIN:VTIMEZONE
TZID:Europe/Helsinki
BEGIN:DAYLIGHT
TZOFFSETFROM:+0200
TZOFFSETTO:+0300
TZNAME:EEST
DTSTART:20230326T010000
END:DAYLIGHT
BEGIN:STANDARD
TZOFFSETFROM:+0300
TZOFFSETTO:+0200
TZNAME:EET
DTSTART:20231029T010000
END:STANDARD
END:VTIMEZONE
BEGIN:VEVENT
DTSTART;TZID=Europe/Helsinki:20230406T110000
DTEND;TZID=Europe/Helsinki:20230406T140000
DTSTAMP:20260425T030011
CREATED:20230404T115649Z
LAST-MODIFIED:20230404T120229Z
UID:63583-1680778800-1680789600@visitkustavi.fi
SUMMARY:Bistro Verden lounaat
DESCRIPTION:Lounas noutopöydästä arkisin 11-14 6.4. alkaen.\nTervetuloa!
URL:https://visitkustavi.fi/tapahtuma/bistro-verden-lounaat/
CATEGORIES:Etusivun tapahtumat,Tapahtumat
ATTACH;FMTTYPE=image/jpeg:https://visitkustavi.fi/wp-content/uploads/2023/03/332708494_741030661004054_1160402179921117775_n.jpeg
END:VEVENT
BEGIN:VEVENT
DTSTART;TZID=Europe/Helsinki:20230408T100000
DTEND;TZID=Europe/Helsinki:20230408T130000
DTSTAMP:20260425T030011
CREATED:20230220T062127Z
LAST-MODIFIED:20230308T201144Z
UID:63442-1680948000-1680958800@visitkustavi.fi
SUMMARY:Keväiset saaristolaismarkkinat 8.4.2023
DESCRIPTION:Keväiset saaristolaismarkkinat 8.4.2024 klo 10-13 \nLeivonnaisia\nKalaa\nKäsitöitä\nEläkeliiton Kustavin yhdistys myy kahvia\, lettuja ja makkaraa. \nPaikkatiedustelut:\n050 5759121 / markus.malmelin@kustavi.fi
URL:https://visitkustavi.fi/tapahtuma/kevaiset-saaristolaismarkkinat-8-4-2023/
LOCATION:125539713_818884802275572_6685428834810886489_n
CATEGORIES:Etusivun tapahtumat,Tapahtumat
ATTACH;FMTTYPE=image/jpeg:https://visitkustavi.fi/wp-content/uploads/2023/02/IMG_20211120_102706-1920x1440-1.jpg
END:VEVENT
BEGIN:VEVENT
DTSTART;TZID=Europe/Helsinki:20230411T170000
DTEND;TZID=Europe/Helsinki:20230411T183000
DTSTAMP:20260425T030011
CREATED:20230404T115840Z
LAST-MODIFIED:20230404T115840Z
UID:63823-1681232400-1681237800@visitkustavi.fi
SUMMARY:Juhlavuoden ideointia ti 11.4. klo 17:00 Tuulentuvalla
DESCRIPTION:Vuonna 2024 Kustavi täyttää 150-vuotta ja Volter Kilven syntymästä on 150 vuotta. \nTapahtumat- Yhtenäinen juhlailme- Markkinointi- Avustukset \n\nAvaussanat Rauno Peltola\, kunnanjohtaja\nMallia muualta Tuuli Jansson\, hankepäällikkö\nIdeoita tartuttavaksi Anna Leimola\,\nYhteistä ideointia työryhmittäin
URL:https://visitkustavi.fi/tapahtuma/juhlavuoden-ideointia-ti-11-4-klo-1700-tuulentuvalla/
LOCATION:Tuulentupa
CATEGORIES:Etusivun tapahtumat,Tapahtumat
ATTACH;FMTTYPE=image/png:https://visitkustavi.fi/wp-content/uploads/2023/04/150-v.png
END:VEVENT
BEGIN:VEVENT
DTSTART;TZID=Europe/Helsinki:20230413T120000
DTEND;TZID=Europe/Helsinki:20230413T150000
DTSTAMP:20260425T030011
CREATED:20230404T120015Z
LAST-MODIFIED:20230404T120015Z
UID:63828-1681387200-1681398000@visitkustavi.fi
SUMMARY:Eläkeliiton Kustavin yhdistys
DESCRIPTION:Huhtikuun kuukausitapaaminen Kustavi-salissa poikkeuksellisesti torstaina 13.4.2023 klo. 12.00. Tilaisuudessa on paikalla Lounais-Rannikon Osuuspankin pankkilakimies Jenna Hirvi kertomassa edunvalvontavaltakirjaan ja testamentiin liittyvistä asioista.
URL:https://visitkustavi.fi/tapahtuma/elakeliiton-kustavin-yhdistys-4/
LOCATION:Kustavi-sali\, Kivimaantie 20\, Kustavi\, 23360\, Suomi
CATEGORIES:Etusivun tapahtumat,Tapahtumat
ORGANIZER;CN="El%C3%A4keliiton Kustavin yhd. ry":MAILTO:kisalmin57@gmail.com
END:VEVENT
BEGIN:VEVENT
DTSTART;TZID=Europe/Helsinki:20230421T180000
DTEND;TZID=Europe/Helsinki:20230421T200000
DTSTAMP:20260425T030011
CREATED:20230404T120212Z
LAST-MODIFIED:20230404T120212Z
UID:63830-1682100000-1682107200@visitkustavi.fi
SUMMARY:Bistron Bingo!
DESCRIPTION:Siis ihan huvin vuoksi ja ihmisten iloksi: \nBINGO! \nHienoja palkintoja luvassa 😊\nja tosi kiva emäntä 🍀\nTervetuloa tunnelmaan!
URL:https://visitkustavi.fi/tapahtuma/bistron-bingo/
LOCATION:Bistro Verde\, Kivimaantie 11\, Kustavi\, 23360
CATEGORIES:Etusivun tapahtumat,Tapahtumat
ATTACH;FMTTYPE=image/png:https://visitkustavi.fi/wp-content/uploads/2023/04/852AED48-955E-4FC6-BA12-369D55899852.png
END:VEVENT
BEGIN:VEVENT
DTSTART;TZID=Europe/Helsinki:20230426T173000
DTEND;TZID=Europe/Helsinki:20230426T190000
DTSTAMP:20260425T030011
CREATED:20230404T120326Z
LAST-MODIFIED:20230404T120346Z
UID:63836-1682530200-1682535600@visitkustavi.fi
SUMMARY:Vesistötilaisuus
DESCRIPTION:Vesistötilaisuudessa kuulemme vesistöjen hoidosta ja kunnostuksista\, Jarkko Leka/Valonia\, hankerahoitusmahdollisuuksiksta\, Pekka Paavilainen/VARELY ja KIPSI infon\, Minna Kolari/VARELY sekä keskustelemme Kustavin alueen toimintatarpeista ja yhteistyöstä. \nLisätietoa\, päivitetty ohjelma ja Teams-osallistumislinkki: Valonia-Tapahtumakalenteri-Vesistötilaisuus \n\nVarsinais-Suomen vesistökunnostusverkosto\nNosta rahat pintaan\nLounais-Suomen vesiensuojeluyhdistys\nValonia
URL:https://visitkustavi.fi/tapahtuma/vesistotilaisuus/
LOCATION:Kunnanvirasto\, Keskustie 7\, Kustavi\, 23360
CATEGORIES:Etusivun tapahtumat,Tapahtumat
END:VEVENT
END:VCALENDAR