BEGIN:VCALENDAR
VERSION:2.0
PRODID:-//Visit Kustavi - ECPv6.10.3//NONSGML v1.0//EN
CALSCALE:GREGORIAN
METHOD:PUBLISH
X-WR-CALNAME:Visit Kustavi
X-ORIGINAL-URL:https://visitkustavi.fi
X-WR-CALDESC:Events for Visit Kustavi
REFRESH-INTERVAL;VALUE=DURATION:PT1H
X-Robots-Tag:noindex
X-PUBLISHED-TTL:PT1H
BEGIN:VTIMEZONE
TZID:Europe/Helsinki
BEGIN:DAYLIGHT
TZOFFSETFROM:+0200
TZOFFSETTO:+0300
TZNAME:EEST
DTSTART:20230326T010000
END:DAYLIGHT
BEGIN:STANDARD
TZOFFSETFROM:+0300
TZOFFSETTO:+0200
TZNAME:EET
DTSTART:20231029T010000
END:STANDARD
END:VTIMEZONE
BEGIN:VEVENT
DTSTART;TZID=Europe/Helsinki:20230302T120000
DTEND;TZID=Europe/Helsinki:20230302T140000
DTSTAMP:20260425T012927
CREATED:20230220T061348Z
LAST-MODIFIED:20230220T061348Z
UID:63435-1677758400-1677765600@visitkustavi.fi
SUMMARY:Eläkeliiton Kustavin yhdistys
DESCRIPTION:Maaliskuun kuukausitapaaminen ja sääntömääräinen kevätkokous Kustavi-salissa torstaina 2.3. klo 12.00. Tilaisuudessa mukana piirin puheenjohtaja Tuula Ristimäki.
URL:https://visitkustavi.fi/tapahtuma/elakeliiton-kustavin-yhdistys-8/
END:VEVENT
BEGIN:VEVENT
DTSTART;TZID=Europe/Helsinki:20230311T140000
DTEND;TZID=Europe/Helsinki:20230311T180000
DTSTAMP:20260425T012927
CREATED:20230307T054048Z
LAST-MODIFIED:20230308T201434Z
UID:63548-1678543200-1678557600@visitkustavi.fi
SUMMARY:Klipunkarin viilee -talviuintitapahtuma
DESCRIPTION:Talviuintitapahtuma Klipunkarin uimarannalla. Tapahtumaan on kaikille vapaa pääsy. Paikalla on The Best Dip -kilpailu hauskimmalle avantoon siirtymiselle. Lisäksi tapahtumassa on Ice Bar\, josta voi ostaa juomia sekä kalakeittoa. Viihteestä vastaa DJ Windows 95 Man.
URL:https://visitkustavi.fi/tapahtuma/klipunkarin-viilee-talviuintitapahtuma/
CATEGORIES:Etusivun tapahtumat,Tapahtumat
ATTACH;FMTTYPE=image/jpeg:https://visitkustavi.fi/wp-content/uploads/2023/03/KUSTAVINTALVIUINTI1-scaled-1.jpg
END:VEVENT
BEGIN:VEVENT
DTSTART;TZID=Europe/Helsinki:20230322T170000
DTEND;TZID=Europe/Helsinki:20230322T183000
DTSTAMP:20260425T012927
CREATED:20230208T065847Z
LAST-MODIFIED:20230208T065847Z
UID:63356-1679504400-1679509800@visitkustavi.fi
SUMMARY:Yrittäjäilta 22.3.2023 kunnanvirastolla klo 17.00
DESCRIPTION:Illan ohjelmassa: \n\nVt. kunnanjohtaja Rauno Peltola kertoo kunnan uudesta strategiasta yrittäjyyden näkökulmasta\nHankepäällikkö Tuuli Janssonin puheenvuoro\nUkipoliksen edustajan puheenvuoro\nVapaata keskustelua. Kehitysehdotuksia\, risuja ja ruusuja.\nKahvitarjoilu
URL:https://visitkustavi.fi/tapahtuma/yrittajailta-22-3-2023-kunnanvirastolla-klo-17-00/
END:VEVENT
END:VCALENDAR