BEGIN:VCALENDAR
VERSION:2.0
PRODID:-//Visit Kustavi - ECPv6.10.3//NONSGML v1.0//EN
CALSCALE:GREGORIAN
METHOD:PUBLISH
X-WR-CALNAME:Visit Kustavi
X-ORIGINAL-URL:https://visitkustavi.fi
X-WR-CALDESC:Events for Visit Kustavi
REFRESH-INTERVAL;VALUE=DURATION:PT1H
X-Robots-Tag:noindex
X-PUBLISHED-TTL:PT1H
BEGIN:VTIMEZONE
TZID:Europe/Helsinki
BEGIN:DAYLIGHT
TZOFFSETFROM:+0200
TZOFFSETTO:+0300
TZNAME:EEST
DTSTART:20230326T010000
END:DAYLIGHT
BEGIN:STANDARD
TZOFFSETFROM:+0300
TZOFFSETTO:+0200
TZNAME:EET
DTSTART:20231029T010000
END:STANDARD
END:VTIMEZONE
BEGIN:VEVENT
DTSTART;TZID=Europe/Helsinki:20230112T120000
DTEND;TZID=Europe/Helsinki:20230112T150000
DTSTAMP:20260425T025935
CREATED:20230109T062243Z
LAST-MODIFIED:20230109T062243Z
UID:63174-1673524800-1673535600@visitkustavi.fi
SUMMARY:Eläkeliiton Kustavin yhdistys
DESCRIPTION:Kuukausitapaaminen Kustavi-salissa . Essi Takkinen laulattaa ja Pirjo Ilkka esittää kirjoittamiaan runoja. Viime vuoden vapaaehtoistoiminnan lomakkeet ja kuntokortit voi palauttaa täällä sihteerille.
URL:https://visitkustavi.fi/tapahtuma/elakeliiton-kustavin-yhdistys-5/
ATTACH;FMTTYPE=:
END:VEVENT
END:VCALENDAR