BEGIN:VCALENDAR
VERSION:2.0
PRODID:-//Visit Kustavi - ECPv6.10.3//NONSGML v1.0//EN
CALSCALE:GREGORIAN
METHOD:PUBLISH
X-WR-CALNAME:Visit Kustavi
X-ORIGINAL-URL:https://visitkustavi.fi
X-WR-CALDESC:Events for Visit Kustavi
REFRESH-INTERVAL;VALUE=DURATION:PT1H
X-Robots-Tag:noindex
X-PUBLISHED-TTL:PT1H
BEGIN:VTIMEZONE
TZID:Europe/Helsinki
BEGIN:DAYLIGHT
TZOFFSETFROM:+0200
TZOFFSETTO:+0300
TZNAME:EEST
DTSTART:20210328T010000
END:DAYLIGHT
BEGIN:STANDARD
TZOFFSETFROM:+0300
TZOFFSETTO:+0200
TZNAME:EET
DTSTART:20211031T010000
END:STANDARD
END:VTIMEZONE
BEGIN:VEVENT
DTSTART;TZID=Europe/Helsinki:20210609T100000
DTEND;TZID=Europe/Helsinki:20210806T130000
DTSTAMP:20260425T021614
CREATED:20210610T114757Z
LAST-MODIFIED:20210610T114757Z
UID:22028-1623232800-1628254800@visitkustavi.fi
SUMMARY:Suvitori
DESCRIPTION:Suvitori avoinna 9.6. – 6.8.2021 ke\, to\, pe ja la klo 10-13.\nTorimyynti mahdollista myös muina aikoina.\nMyynnissä muun muassa käsitöitä\, leivonnaisia\, kalaa\, kalatuotteita\, vihanneksia ja juureksia. \nIltakirppis 11.6. – 6.8.2021 perjantaisin klo 17-19. \nKivimaantie 9\, Kustavi
URL:https://visitkustavi.fi/tapahtuma/suvitori/
LOCATION:125539713_818884802275572_6685428834810886489_n
ATTACH;FMTTYPE=:
END:VEVENT
BEGIN:VEVENT
DTSTART;VALUE=DATE:20210606
DTEND;VALUE=DATE:20210607
DTSTAMP:20260425T021614
CREATED:20210208T223019Z
LAST-MODIFIED:20210208T223019Z
UID:59618-1622937600-1623023999@visitkustavi.fi
SUMMARY:Kustavi-päivä
DESCRIPTION:Toivomme kaikkien liputtavan Kustavi-päivän kunniaksi. Muita juhlallisuuksia ei tänä vuonna järjestetä.
URL:https://visitkustavi.fi/tapahtuma/kustavi-paiva/
LOCATION:118963663_310692183541480_1934336862222995303_n
ATTACH;FMTTYPE=image/jpeg:https://visitkustavi.fi/wp-content/uploads/2020/08/118963663_310692183541480_1934336862222995303_n.jpg
END:VEVENT
BEGIN:VEVENT
DTSTART;VALUE=DATE:20210510
DTEND;VALUE=DATE:20210511
DTSTAMP:20260425T021614
CREATED:20210215T185855Z
LAST-MODIFIED:20210215T185855Z
UID:6047-1620604800-1620691199@visitkustavi.fi
SUMMARY:Unelmien Liikuntapäivä
DESCRIPTION:Iloinen ja aktiivinen liikuntapäivä kaikenikäisille
URL:https://visitkustavi.fi/tapahtuma/unelmien-liikuntapaiva/
END:VEVENT
END:VCALENDAR