BEGIN:VCALENDAR
VERSION:2.0
PRODID:-//Visit Kustavi - ECPv6.10.3//NONSGML v1.0//EN
CALSCALE:GREGORIAN
METHOD:PUBLISH
X-ORIGINAL-URL:https://visitkustavi.fi
X-WR-CALDESC:Events for Visit Kustavi
REFRESH-INTERVAL;VALUE=DURATION:PT1H
X-Robots-Tag:noindex
X-PUBLISHED-TTL:PT1H
BEGIN:VTIMEZONE
TZID:Europe/Helsinki
BEGIN:DAYLIGHT
TZOFFSETFROM:+0200
TZOFFSETTO:+0300
TZNAME:EEST
DTSTART:20230326T010000
END:DAYLIGHT
BEGIN:STANDARD
TZOFFSETFROM:+0300
TZOFFSETTO:+0200
TZNAME:EET
DTSTART:20231029T010000
END:STANDARD
END:VTIMEZONE
BEGIN:VEVENT
DTSTART;TZID=Europe/Helsinki:20230411T170000
DTEND;TZID=Europe/Helsinki:20230411T183000
DTSTAMP:20260425T043204
CREATED:20230404T115840Z
LAST-MODIFIED:20230404T115840Z
UID:63823-1681232400-1681237800@visitkustavi.fi
SUMMARY:Juhlavuoden ideointia ti 11.4. klo 17:00 Tuulentuvalla
DESCRIPTION:Vuonna 2024 Kustavi täyttää 150-vuotta ja Volter Kilven syntymästä on 150 vuotta. \nTapahtumat- Yhtenäinen juhlailme- Markkinointi- Avustukset \n\nAvaussanat Rauno Peltola\, kunnanjohtaja\nMallia muualta Tuuli Jansson\, hankepäällikkö\nIdeoita tartuttavaksi Anna Leimola\,\nYhteistä ideointia työryhmittäin
URL:https://visitkustavi.fi/tapahtuma/juhlavuoden-ideointia-ti-11-4-klo-1700-tuulentuvalla/
LOCATION:Tuulentupa
CATEGORIES:Etusivun tapahtumat,Tapahtumat
ATTACH;FMTTYPE=image/png:https://visitkustavi.fi/wp-content/uploads/2023/04/150-v.png
END:VEVENT
END:VCALENDAR