BEGIN:VCALENDAR
VERSION:2.0
PRODID:-//Visit Kustavi - ECPv6.10.3//NONSGML v1.0//EN
CALSCALE:GREGORIAN
METHOD:PUBLISH
X-ORIGINAL-URL:https://visitkustavi.fi
X-WR-CALDESC:Events for Visit Kustavi
REFRESH-INTERVAL;VALUE=DURATION:PT1H
X-Robots-Tag:noindex
X-PUBLISHED-TTL:PT1H
BEGIN:VTIMEZONE
TZID:Europe/Helsinki
BEGIN:DAYLIGHT
TZOFFSETFROM:+0200
TZOFFSETTO:+0300
TZNAME:EEST
DTSTART:20230326T010000
END:DAYLIGHT
BEGIN:STANDARD
TZOFFSETFROM:+0300
TZOFFSETTO:+0200
TZNAME:EET
DTSTART:20231029T010000
END:STANDARD
END:VTIMEZONE
BEGIN:VEVENT
DTSTART;TZID=Europe/Helsinki:20230322T170000
DTEND;TZID=Europe/Helsinki:20230322T183000
DTSTAMP:20260425T060041
CREATED:20230208T065847Z
LAST-MODIFIED:20230208T065847Z
UID:63356-1679504400-1679509800@visitkustavi.fi
SUMMARY:Yrittäjäilta 22.3.2023 kunnanvirastolla klo 17.00
DESCRIPTION:Illan ohjelmassa: \n\nVt. kunnanjohtaja Rauno Peltola kertoo kunnan uudesta strategiasta yrittäjyyden näkökulmasta\nHankepäällikkö Tuuli Janssonin puheenvuoro\nUkipoliksen edustajan puheenvuoro\nVapaata keskustelua. Kehitysehdotuksia\, risuja ja ruusuja.\nKahvitarjoilu
URL:https://visitkustavi.fi/tapahtuma/yrittajailta-22-3-2023-kunnanvirastolla-klo-17-00/
END:VEVENT
END:VCALENDAR