BEGIN:VCALENDAR
VERSION:2.0
PRODID:-//Visit Kustavi - ECPv6.10.3//NONSGML v1.0//EN
CALSCALE:GREGORIAN
METHOD:PUBLISH
X-ORIGINAL-URL:https://visitkustavi.fi
X-WR-CALDESC:Events for Visit Kustavi
REFRESH-INTERVAL;VALUE=DURATION:PT1H
X-Robots-Tag:noindex
X-PUBLISHED-TTL:PT1H
BEGIN:VTIMEZONE
TZID:Europe/Helsinki
BEGIN:DAYLIGHT
TZOFFSETFROM:+0200
TZOFFSETTO:+0300
TZNAME:EEST
DTSTART:20230326T010000
END:DAYLIGHT
BEGIN:STANDARD
TZOFFSETFROM:+0300
TZOFFSETTO:+0200
TZNAME:EET
DTSTART:20231029T010000
END:STANDARD
END:VTIMEZONE
BEGIN:VEVENT
DTSTART;TZID=Europe/Helsinki:20230209T120000
DTEND;TZID=Europe/Helsinki:20230209T150000
DTSTAMP:20260425T012958
CREATED:20230130T115047Z
LAST-MODIFIED:20230130T115047Z
UID:63279-1675944000-1675954800@visitkustavi.fi
SUMMARY:Eläkeliiton Kustavin yhdistys
DESCRIPTION:Helmikuun kuukausitapaaminen Kustavi-salissa torstaina 9.2. klo 12.00. Hengitysliiton kouluttama kokemustoimija Erkki Leipälä puhuu uniapneasta. Sen oireista\, hoidoista ja vaaroista \, jos jää hoitamatta. Arpajaiset. Pieni paketti arpajaisvoitoksi mukaan.
URL:https://visitkustavi.fi/tapahtuma/elakeliiton-kustavin-yhdistys-7/
END:VEVENT
END:VCALENDAR