BEGIN:VCALENDAR
VERSION:2.0
PRODID:-//Visit Kustavi - ECPv6.10.3//NONSGML v1.0//EN
CALSCALE:GREGORIAN
METHOD:PUBLISH
X-ORIGINAL-URL:https://visitkustavi.fi
X-WR-CALDESC:Events for Visit Kustavi
REFRESH-INTERVAL;VALUE=DURATION:PT1H
X-Robots-Tag:noindex
X-PUBLISHED-TTL:PT1H
BEGIN:VTIMEZONE
TZID:Europe/Helsinki
BEGIN:DAYLIGHT
TZOFFSETFROM:+0200
TZOFFSETTO:+0300
TZNAME:EEST
DTSTART:20230326T010000
END:DAYLIGHT
BEGIN:STANDARD
TZOFFSETFROM:+0300
TZOFFSETTO:+0200
TZNAME:EET
DTSTART:20231029T010000
END:STANDARD
END:VTIMEZONE
BEGIN:VEVENT
DTSTART;TZID=Europe/Helsinki:20230205T120000
DTEND;TZID=Europe/Helsinki:20230205T140000
DTSTAMP:20260425T061123
CREATED:20230202T075248Z
LAST-MODIFIED:20230202T075248Z
UID:63286-1675598400-1675605600@visitkustavi.fi
SUMMARY:Saariston Tulet - laavutapahtuma
DESCRIPTION:Saariston Tulet – laavutapahtuma 5.2.2023 klo 12-14 \nLaukkarin laavulla \n  \nOhjelmassa: \npilkkimistä (omatoimista ja opastettua) \nMakkaranpaistoa (kunta tarjoaa grillimakkaran ja mehun) \nYhteistyössä Kustavin urheilukalastajat ja Isoluodon kylätoimikunta \nSäävaraus
URL:https://visitkustavi.fi/tapahtuma/saariston-tulet-laavutapahtuma-2-2/
END:VEVENT
END:VCALENDAR